BEGIN:VCALENDAR
VERSION:2.0
PRODID:-//OmniMagnetCalendar//EN
BEGIN:VEVENT
DTSTAMP:20190625T195740Z
STATUS:CONFIRMED
UID:hctoronto.clubs.harvard.edu549
DTSTART:20260507T210000Z
DTEND:20260508T000000Z
LOCATION:Toronto, ON, Canada,
SUMMARY:OCAD Student Art Show 
DESCRIPTION:We are pleased to offer a guided visit to this annual end-of-year art show showcasing the work of talented students at OCAD. 
BEGIN:VALARM
TRIGGER:-PT15M
ACTION:DISPLAY
END:VALARM
TRANSP:OPAQUE
END:VEVENT
END:VCALENDAR
