BEGIN:VCALENDAR
VERSION:2.0
PRODID:-//OmniMagnetCalendar//EN
BEGIN:VEVENT
DTSTAMP:20190625T195740Z
STATUS:CONFIRMED
UID:hctoronto.clubs.harvard.edu526
DTSTART:20251015T213000Z
DTEND:20251015T223000Z
LOCATION:Rotman School of Management, 105 St George St, Toronto, Ontario, M5S 3E6, Canada,
SUMMARY:Steven Pinker on the Mysteries of Knowledge, Money and Power
DESCRIPTION:Harvard Prof Book Launch Event - Special promo for HCT Members
BEGIN:VALARM
TRIGGER:-PT15M
ACTION:DISPLAY
END:VALARM
TRANSP:OPAQUE
END:VEVENT
END:VCALENDAR
