BEGIN:VCALENDAR
VERSION:2.0
PRODID:-//OmniMagnetCalendar//EN
BEGIN:VEVENT
DTSTAMP:20190625T195740Z
STATUS:CONFIRMED
UID:hctoronto.clubs.harvard.edu519
DTSTART:20250819T223000Z
DTEND:20250820T003000Z
LOCATION:The Keating Channel Pub & Grill, 2 Villiers Street, Downtown Toronto, Ontario, Canada,
SUMMARY:Ivy + Happy Hour
DESCRIPTION:Celebrate Summer at the Ivy+ Happy Hour at The Keating Channel Pub and Grill.
BEGIN:VALARM
TRIGGER:-PT15M
ACTION:DISPLAY
END:VALARM
TRANSP:OPAQUE
END:VEVENT
END:VCALENDAR
