BEGIN:VCALENDAR
VERSION:2.0
PRODID:-//OmniMagnetCalendar//EN
BEGIN:VEVENT
DTSTAMP:20190625T195740Z
STATUS:CONFIRMED
UID:hctoronto.clubs.harvard.edu518
DTSTART:20250521T213000Z
DTEND:20250521T223000Z
LOCATION:Desautels Hall, Virtual,
SUMMARY:Iris Bohnet on 'Make Work Fair: Data-Driven Design for Real Results'
DESCRIPTION:On Wednesday, May 21, Rotman will be hosting Harvard Professor Iris Bohnet for a conversation on her new book, Make Work Fair, exploring how we can embed fairness into workplace design through data-driven approaches.
BEGIN:VALARM
TRIGGER:-PT15M
ACTION:DISPLAY
END:VALARM
TRANSP:OPAQUE
END:VEVENT
END:VCALENDAR
