BEGIN:VCALENDAR
VERSION:2.0
PRODID:-//OmniMagnetCalendar//EN
BEGIN:VEVENT
DTSTAMP:20190625T195740Z
STATUS:CONFIRMED
UID:hctoronto.clubs.harvard.edu516
DTSTART:20250522T154500Z
DTEND:20250522T173000Z
LOCATION:Toronto, ON, Canada,
SUMMARY:Lunch with Derek Penslar
DESCRIPTION:Join us for an intimate lunch with Prof Penslar as he discusses the nature of rising anti-semitism.
BEGIN:VALARM
TRIGGER:-PT15M
ACTION:DISPLAY
END:VALARM
TRANSP:OPAQUE
END:VEVENT
END:VCALENDAR
