BEGIN:VCALENDAR
VERSION:2.0
PRODID:-//OmniMagnetCalendar//EN
BEGIN:VEVENT
DTSTAMP:20190625T195740Z
STATUS:CONFIRMED
UID:hctoronto.clubs.harvard.edu514
DTSTART:20251122T170000Z
DTEND:20251122T210000Z
LOCATION:The Duke of York pub , 39 Prince Arthur Avenue, Toronto, ON,
SUMMARY:The Game 2025: Harvard vs. Yale
DESCRIPTION:Save the date for the Harvard vs Yale Football GAME!
BEGIN:VALARM
TRIGGER:-PT15M
ACTION:DISPLAY
END:VALARM
TRANSP:OPAQUE
END:VEVENT
END:VCALENDAR
