BEGIN:VCALENDAR
VERSION:2.0
PRODID:-//OmniMagnetCalendar//EN
BEGIN:VEVENT
DTSTAMP:20190625T195740Z
STATUS:CONFIRMED
UID:hctoronto.clubs.harvard.edu508
DTSTART:20250116T210000Z
DTEND:20250116T230000Z
LOCATION:Campbell Conference Facility, 1 Devonshire Place, Toronto, ON, Canada,
SUMMARY:Unpredictable America: Donald Trump and the future of American Foreign Policy
DESCRIPTION:Professor Thomas A. Schwartz, Harvard PhD 1985
BEGIN:VALARM
TRIGGER:-PT15M
ACTION:DISPLAY
END:VALARM
TRANSP:OPAQUE
END:VEVENT
END:VCALENDAR
