BEGIN:VCALENDAR
VERSION:2.0
PRODID:-//OmniMagnetCalendar//EN
BEGIN:VEVENT
DTSTAMP:20190625T195740Z
STATUS:CONFIRMED
UID:hctoronto.clubs.harvard.edu507
DTSTART:20250119T173000Z
DTEND:20250119T190000Z
LOCATION:ESG United Church,  35 Lytton Blvd, Toronto, ON, Canada,
SUMMARY:Compassionate Justice: Speaking Truth to Power: Constitutional Rights
DESCRIPTION:Nader Hasan, AB '02
BEGIN:VALARM
TRIGGER:-PT15M
ACTION:DISPLAY
END:VALARM
TRANSP:OPAQUE
END:VEVENT
END:VCALENDAR
