BEGIN:VCALENDAR
VERSION:2.0
PRODID:-//OmniMagnetCalendar//EN
BEGIN:VEVENT
DTSTAMP:20190625T195740Z
STATUS:CONFIRMED
UID:hctoronto.clubs.harvard.edu505
DTSTART:20250225T233000Z
DTEND:20250226T023000Z
LOCATION:The Rivoli, 334 Queen St West, Downtown Toronto, Ontario, Canada,
SUMMARY:Ivy + Happy Hour Feb 25
DESCRIPTION:Combat the winter blahs by joining us to mix and mingle with fellow alums from across the Ivy League, US and EU schools.
BEGIN:VALARM
TRIGGER:-PT15M
ACTION:DISPLAY
END:VALARM
TRANSP:OPAQUE
END:VEVENT
END:VCALENDAR
