BEGIN:VCALENDAR
VERSION:2.0
PRODID:-//OmniMagnetCalendar//EN
BEGIN:VEVENT
DTSTAMP:20190625T195740Z
STATUS:CONFIRMED
UID:hctoronto.clubs.harvard.edu503
DTSTART:20250115T230000Z
DTEND:20250116T013000Z
LOCATION:Toronto, ON, Canada,
SUMMARY:Harvard Club of Toronto New Year’s Levee -
DESCRIPTION:Reception for 2024 and 2025 HCT members and guests -- See details
BEGIN:VALARM
TRIGGER:-PT15M
ACTION:DISPLAY
END:VALARM
TRANSP:OPAQUE
END:VEVENT
END:VCALENDAR
