BEGIN:VCALENDAR
VERSION:2.0
PRODID:-//OmniMagnetCalendar//EN
BEGIN:VEVENT
DTSTAMP:20190625T195740Z
STATUS:CONFIRMED
UID:hctoronto.clubs.harvard.edu502
DTSTART:20250319T223000Z
DTEND:20250320T013000Z
LOCATION:Toronto, ON, Canada,
SUMMARY:Global Networking Night - Harvard's annual alumni night
DESCRIPTION:Save the date! Communities around the world hosting a GNN.
BEGIN:VALARM
TRIGGER:-PT15M
ACTION:DISPLAY
END:VALARM
TRANSP:OPAQUE
END:VEVENT
END:VCALENDAR
