BEGIN:VCALENDAR
VERSION:2.0
PRODID:-//OmniMagnetCalendar//EN
BEGIN:VEVENT
DTSTAMP:20190625T195740Z
STATUS:CONFIRMED
UID:hctoronto.clubs.harvard.edu498
DTSTART:20241210T223000Z
DTEND:20241211T003000Z
LOCATION:Location to be announced,
SUMMARY:Job Moves: Making Progress in Your Career
DESCRIPTION:Prof Ethan Bernstein, associate professor in the Organizational Behavior unit at Harvard Business School shares his new book Job Moves: Making Progress in Your Career. It will be moderated by HBS alum Dan Richards.
BEGIN:VALARM
TRIGGER:-PT15M
ACTION:DISPLAY
END:VALARM
TRANSP:OPAQUE
END:VEVENT
END:VCALENDAR
